BEGIN:VCALENDAR
VERSION:2.0
PRODID:-//Four Corners Writers - ECPv6.15.20//NONSGML v1.0//EN
CALSCALE:GREGORIAN
METHOD:PUBLISH
X-WR-CALNAME:Four Corners Writers
X-ORIGINAL-URL:https://www.fourcornerswriters.com
X-WR-CALDESC:Events for Four Corners Writers
REFRESH-INTERVAL;VALUE=DURATION:PT1H
X-Robots-Tag:noindex
X-PUBLISHED-TTL:PT1H
BEGIN:VTIMEZONE
TZID:America/Denver
BEGIN:DAYLIGHT
TZOFFSETFROM:-0700
TZOFFSETTO:-0600
TZNAME:MDT
DTSTART:20240310T090000
END:DAYLIGHT
BEGIN:STANDARD
TZOFFSETFROM:-0600
TZOFFSETTO:-0700
TZNAME:MST
DTSTART:20241103T080000
END:STANDARD
BEGIN:DAYLIGHT
TZOFFSETFROM:-0700
TZOFFSETTO:-0600
TZNAME:MDT
DTSTART:20250309T090000
END:DAYLIGHT
BEGIN:STANDARD
TZOFFSETFROM:-0600
TZOFFSETTO:-0700
TZNAME:MST
DTSTART:20251102T080000
END:STANDARD
BEGIN:DAYLIGHT
TZOFFSETFROM:-0700
TZOFFSETTO:-0600
TZNAME:MDT
DTSTART:20260308T090000
END:DAYLIGHT
BEGIN:STANDARD
TZOFFSETFROM:-0600
TZOFFSETTO:-0700
TZNAME:MST
DTSTART:20261101T080000
END:STANDARD
END:VTIMEZONE
BEGIN:VEVENT
DTSTART;TZID=America/Denver:20251015T180000
DTEND;TZID=America/Denver:20251015T193000
DTSTAMP:20260422T113846
CREATED:20250707T183337Z
LAST-MODIFIED:20250929T233804Z
UID:3359-1760551200-1760556600@www.fourcornerswriters.com
SUMMARY:October 2025 Third Wednesday Workshop
DESCRIPTION:You Can’t Make This Stuff Up: A Journalist’s Approach to Writing Creative Nonfiction \nIn this talk\, author Annette McGivney will share her four decades of experience as a journalist writing investigative magazine articles and nonfiction books. Participants will learn techniques for conducting in-depth research\, journalistic interviews and turning factual material into writing that reads like a novel with narrative descriptions\, character development\, and an engaging story structure. \n\nAnnette McGivney is an investigative journalist and the author of five nonfiction books. Annette’s most recent book\, Pure Land\, about the murder of Tomomi Hanamure in the Grand Canyon\, won the National Outdoor Book Award in 2018. Pure Land was the debut selection for Outside magazine’s book club in 2017 and named by the magazine on a list of “outdoor books that shaped the last decade.” Her forthcoming book\, Plastic Shaman\, a true crime story about the wellness industry’s appropriation of Native American culture\, will be published by Torrey House Press in 2026. Annette is also a frequent contributor to the Guardian\, Outside and Arizona Highways. She is a professor emeritus in Journalism at Northern Arizona University and lives in Cortez\, Colorado. \n\nAs always\, all genres and experience levels are welcome and admission is free. If you can\, show up early to purchase a snack or beverage (or a book!) in support of our generous hosts at ZU Gallery!
URL:https://www.fourcornerswriters.com/event/october-2025-third-wednesday-workshop-2/
LOCATION:ZU Gallery\, 48 W Main St\, Cortez\, Colorado\, 81321
CATEGORIES:Four Corners Writers
ATTACH;FMTTYPE=image/jpeg:https://www.fourcornerswriters.com/wp-content/uploads/2025/06/FCW-Facebook-Event.jpg
END:VEVENT
END:VCALENDAR